BEGIN:VCALENDAR
VERSION:2.0
PRODID:icalendar-ruby
CALSCALE:GREGORIAN
METHOD:PUBLISH
BEGIN:VTIMEZONE
TZID:Pacific/Auckland
BEGIN:DAYLIGHT
DTSTART:20260927T030000
TZOFFSETFROM:+1200
TZOFFSETTO:+1300
RRULE:FREQ=YEARLY;BYDAY=-1SU;BYMONTH=9
TZNAME:NZDT
END:DAYLIGHT
BEGIN:STANDARD
DTSTART:20260405T020000
TZOFFSETFROM:+1300
TZOFFSETTO:+1200
RRULE:FREQ=YEARLY;BYDAY=1SU;BYMONTH=4
TZNAME:NZST
END:STANDARD
END:VTIMEZONE
BEGIN:VEVENT
DTSTAMP:20260421T041918Z
UID:inspection_3006630
DTSTART;TZID=Pacific/Auckland:20260426T124500
DTEND;TZID=Pacific/Auckland:20260426T131500
CLASS:PUBLIC
CREATED:20260421T114927
DESCRIPTION: 
LAST-MODIFIED:20260421T114927
LOCATION:70A Marama Crescent\, SPOTSWOOD\, NEW PLYMOUTH\, TARANAKI\, New Ze
 aland
SUMMARY:70A Marama Crescent\,  Inspection
URL;VALUE=URI:http://www.bestmove.co.nz/
END:VEVENT
END:VCALENDAR
